BEGIN:VCALENDAR
VERSION:2.0
PRODID:-//Jason Farman - ECPv6.7.0//NONSGML v1.0//EN
CALSCALE:GREGORIAN
METHOD:PUBLISH
X-ORIGINAL-URL:http://jasonfarman.com
X-WR-CALDESC:Events for Jason Farman
REFRESH-INTERVAL;VALUE=DURATION:PT1H
X-Robots-Tag:noindex
X-PUBLISHED-TTL:PT1H
BEGIN:VTIMEZONE
TZID:America/New_York
BEGIN:DAYLIGHT
TZOFFSETFROM:-0500
TZOFFSETTO:-0400
TZNAME:EDT
DTSTART:20250309T070000
END:DAYLIGHT
BEGIN:STANDARD
TZOFFSETFROM:-0400
TZOFFSETTO:-0500
TZNAME:EST
DTSTART:20251102T060000
END:STANDARD
END:VTIMEZONE
BEGIN:VEVENT
DTSTART;TZID=America/New_York:20250117T130000
DTEND;TZID=America/New_York:20250117T170000
DTSTAMP:20260421T062407
CREATED:20241017T194109Z
LAST-MODIFIED:20241017T194109Z
UID:1223-1737118800-1737133200@jasonfarman.com
SUMMARY:Harmony in the Park: A Community Music and Arts Festival
DESCRIPTION:Join us for a day of creative expression and community bonding at our annual Harmony in the Park festival! Featuring local musicians\, artists\, and crafters\, this event offers a platform for showcasing talent while fostering connections. From live performances to interactive art installations and workshops for all ages\, there’s something for everyone to enjoy. Bring your family and friends to experience the vibrant culture of our community in the beautiful setting of our local park.
URL:http://jasonfarman.com/event/harmony-in-the-park-a-community-music-and-arts-festival/
LOCATION:Harmony Park\, 112 Main St\, Missoula\, Montana\, United States
CATEGORIES:Community,Festival
ATTACH;FMTTYPE=image/jpeg:http://jasonfarman.com/wp-content/uploads/2024/10/Example-A-Roll-Image-scaled-1.jpg
ORGANIZER;CN="Community Outreach":MAILTO:info@communityoutreach.org
END:VEVENT
END:VCALENDAR